BEGIN:VCALENDAR
VERSION:2.0
PRODID:-//Art Sonore - ECPv6.8.3//NONSGML v1.0//EN
CALSCALE:GREGORIAN
METHOD:PUBLISH
X-WR-CALNAME:Art Sonore
X-ORIGINAL-URL:http://artsonore.de
X-WR-CALDESC:Veranstaltungen für Art Sonore
REFRESH-INTERVAL;VALUE=DURATION:PT1H
X-Robots-Tag:noindex
X-PUBLISHED-TTL:PT1H
BEGIN:VTIMEZONE
TZID:UTC
BEGIN:STANDARD
TZOFFSETFROM:+0000
TZOFFSETTO:+0000
TZNAME:UTC
DTSTART:20190101T000000
END:STANDARD
END:VTIMEZONE
BEGIN:VEVENT
DTSTART;TZID=UTC:20221119T200000
DTEND;TZID=UTC:20221119T230000
DTSTAMP:20260421T080710
CREATED:20221004T134728Z
LAST-MODIFIED:20221004T134728Z
UID:760-1668888000-1668898800@artsonore.de
SUMMARY:Nacht der Künste 2022
DESCRIPTION:3 Jahre ist es her und nun ist es wieder so weit. Die „Nacht der Künste“ der Künste steht vor der Tür. \nEine Veranstaltung in welcher die unterschiedlichsten Kunstschaffenden Ihre Fotografien\, Bilder\, Skulpturen\, Klangkünste und Lyrik vorstellen.  \nDieses Jahr freuen wir uns\, mit den Künstlern Eric Nobles\, Lucie Victoria Steffien\, Marc Oliver Kern und Per Ole Albrecht zusammenzuarbeiten\, um euch eine Farbelhalte Nach der Künste zu bieten.  \nEinlass: 19:30 Beginn: 20:00\nVVK: 10€ AK: 13 \nTickets kaufen \nDie Künstler: \nEric Nobles: Eric Nobles\, der unter anderem durch seine Alben Unruhe 3 und Dark X bekannt geworden ist\, produziert Dark-\, und Drone Ambient Musik. Er vereint auf eine besondere Art dunkle Atmosphären mit psychoaktiven Klangelementen. \nLucie Victoria Steffien: Begeistert\, durch ein faszinierendes Zusammenspiel von Moderner Technik und einer ungreifbaren Vorstellungskraft Themen wie Gefühle\, Situation oder Übernatürliches durch abstrakte Arbeiten bildlich darzustellen. \nMarc Oliver: Ein Fotograf\, welcher sich auf das Porträtieren von Menschen spezialisiert hat und die Individualität eines jedem Menschen hervorhebt. Eben jene Bilder\, die den Betrachter fesseln\, die ihn vielleicht sogar erstaunen und für einen Augenblick aus der Realität entführen. Besondere Bilder\, die man sich gern öfter ansieht. \nPer Ole Albrecht: Nach Jahren des stillen Schaffens entschließt sich Per Ole Albrecht aus den Schatten herauszutreten und den Blick – und das Gehör – auf teilweise witzig-morbide\, teilweise melancholisch-todrünstige Werke freizugeben. \nDiese Werke aus eigener Feder mit dem Titel „Mordlyrik – Gedichte mitten ins Herz“ scheinen dem Grab\, zumindest dem Leichenschauhaus\, entstiegen\, jedoch wird gemunkelt\, man habe den Dichter auch persönlich angetroffen – komplett in Schwarz gekleidet\, versteht sich.
URL:http://artsonore.de/event/nacht-der-kuenste-2022
LOCATION:Werkhof-Lübeck\, Kanalstrasse 70\, Lübeck\, Schleswig-Holstein\, 23552\, Deutschland
ATTACH;FMTTYPE=image/jpeg:http://artsonore.de/wp-content/uploads/2022/10/Unbenannt-2.jpg
ORGANIZER;CN="Art Sonore":MAILTO:Art_Sonore@Gmx.de
END:VEVENT
BEGIN:VEVENT
DTSTART;TZID=UTC:20200306T193000
DTEND;TZID=UTC:20200306T233000
DTSTAMP:20260421T080710
CREATED:20200111T130239Z
LAST-MODIFIED:20200111T130518Z
UID:710-1583523000-1583537400@artsonore.de
SUMMARY:Art Sonore präsentiert: Soundscapes Festival
DESCRIPTION:Art Sonore präsentiert: Soundscapes Festival\n  \n2019 ist vorbei und zu diesem Anlass lädt\, das Lübecker Künstler Kollektiv Art Sonore zu ihrer ersten Veranstaltung 2020 ein.\nErlebe die einzigartigen und spannenden Kompositionen in Kombination mit einer Videoperformance\, der Klangkünstler Skull\, Eric Nobles und Aorta Projects aus dem Bereich Ambient-Musik. \nSkull\, ein Künstler und Musiker welcher mit seinen Einzigartigen Dark-\, Horror- und Industrial-Ambient Kompositionen überzeugt\, lädt dazu ein in sein neues Album reinzuhören. Unter dem Namen Lobotomie\, präsentiert uns Skull eine musikalische Darstellung von psychischen Erkrankungen. \nEs wird düster\, wenn Eric Nobles Empor steht um uns seine neues Dark-Ambient Werk „Anemea Pan“ zu präsentieren.\nDer in Lübeck ansässige Künstler\, der unter anderem durch seine Alben Unruhe 3 und Dark X bekannt geworden ist\, produziert Dark- und Drone Ambient Musik. Er vereint auf eine besondere Art dunkle Atmosphären mit psychoaktiven Klangelementen. \nDer bereits bekannte Lübecker Klangkünstler Aorta Projects\, stellt uns sein neues Album „Essence of the Dreaming City“ vor. Sein einzigartiges und neues Projekt lässt sich am besten aus einer Kombination aus Dark-Ambient und Jazz-Noir Elementen beschreiben. \nEinlass: 19:30 Uhr | Beginn 20:00 Uhr | Abendkasse: 15€\nCVJM LÜbeck | Große Petersgrube 11\, 23552 Lübeck
URL:http://artsonore.de/event/art-sonore-praesentiert-soundscapes-festival
LOCATION:CVJM\, Große Petersgrube 11\, Lübeck\, 23552\, Deutschland
ORGANIZER;CN="Skull":MAILTO:SkullProjects-Ambient@Gmx.de
END:VEVENT
BEGIN:VEVENT
DTSTART;TZID=UTC:20191102T200000
DTEND;TZID=UTC:20191102T233000
DTSTAMP:20260421T080710
CREATED:20191009T163230Z
LAST-MODIFIED:20191030T095533Z
UID:260-1572724800-1572737400@artsonore.de
SUMMARY:Nacht der Künste
DESCRIPTION:Das Lübecker Künstler-Kollektiv Art Sonore präsentiert die Premiere ihres neuen Projektes\, „Nacht der Künste“. \nHier werden die verschiedensten Künstler ihre Arbeiten aus den Bereichen Ambient-Musik\, Fotografie\, Digital-Art\, Malerei und Illustrationen Präsentieren.\nFür Kunstinteressierte und Kunstliebhaber bietet sich hierbei die Möglichkeit\, in die atemberaubende Welt der Künste einzutauchen. \nDie diesjährigen Künstler:\nWerk.lichtgrau – Malerei & Illustrationen\nTina Schönwald – Fotografie & Malerei\nNick Steffien (Skull) – Live Musik & Digital-Art\nEric Nobles – Live Musik & Video Performance\nAorta Projects – Live Musik & Video Performance\nPer Ole Albrecht – Lesung \nEinlass: 20:00Uhr | Beginn 21:00Uhr | Abendkasse: 13€ \nEric Nobles\nDer in Lübeck ansässige Künstler Eric Nobles\, der unter anderem durch seine Alben Unruhe 3 und Dark X bekannt geworden ist\, produziert Dark-\, und Drone Ambient Musik. Er vereint auf eine besondere Art dunkle Atmosphären mit psychoaktiven Klangelementen \nSkull\nSkull ist ein Dark\,- und Spiritual- Ambient Künstler\, der sich auf dunkle atmosphärische Musik konzentriert. Er versucht mit seinen Kompositionen Geschichten und Emotionen musikalisch darzustellen\, um anderen Menschen eine andere Perspektive zu geben. \n„Meine Kunst ist Provokation\, sie ist Rebellion wider der vorherrschenden Gesellschaftlichen und Kulturellen Gleichschaltung vom Individuum. Kulturelle Weiterbildung beginnt da wo Massen-Verblödung endet“ \n„Ich versuche Wahre Gefühle mit meiner Musik sowie meinen Arbeiten in den menschen auszulösen unabhängig ihrer Hautfarbe\, Geschlecht\, Alter\, Sexuellen Orientierungen oder Nationalität.“\n-Nick Steffien \nWERK.lichtgrau Art & Illustration\nWerk.lichtgrau ist eine Kreative Lübecker Künstlerin welche sich auf Porträts\, Bildnisse und Illustration Spezialisiert hat und mit ihrem einzigartigen Zeichenstil überzeugt. Seit 2016 stellt die Künstlerin regelmäßig ihre Arbeiten in Lübeck\, Hamburg und Umgebung aus. \nAorta Projects\nUnter dem Namen Aorta Projects produziert und veröffentlicht der norddeutsche DJ Janus Schwarz seine Musik-Produktionen aus dem Bereich Dark-Ambient. Einflüsse aus den Genres Ritual und Spiritual werden hierbei mit bewährten Ambient-Konzepten vermischt. \nTina Schönwald\nTina Schönwald fotografiert seit den frühen 80er Jahren\, und oft beschreiben ihre Bilder Gegensätze\, mit besonderer Konzentration in den letzten Jahren auf Lübeck.\nProfanes und Schönes\, Ruinen und Neubauten\, historische Gebäude und Industrie\, Leben und Neubeginn inmitten des Denkmalschutzes\, Unwiederbringliches und Alltag\, Verlorenes und Erinnerungen. Sie wird fast zwanghaft von dem Gedanken angetrieben\, die Ansichten festhalten und dokumentieren zu müssen\, weil sich alles so schnell ändert und der Zahn der Zeit nagt. Trotzdem wird nicht der alten Zeit nachgehangen und es werden Veränderung und Zukunftsweisendes als spannend wahrgenommen und dem aktuellen Puls nachgefühlt. Der oft rauhe Charme dieser kleinen Großstadt wird hervorgehoben\, wobei durch die spezielle Inszenierung manchmal Lübeck fast nicht wiedererkannt wird. In allem ist Schönwalds tiefe Verbundenheit zur Stadt zu spüren und liebevolles\, fast zärtliches und stellenweise auch pathetisches Betrachten wahrzunehmen. \nPer Ole Albrecht\nNach Jahren des stillen Schaffens entschließt sich Per Ole Albrecht aus den Schatten herauszutreten und Blick und Gehör auf teilweise witzig-morbide\, teilweise melancholisch-todrünstige Werke mit dem Titel „Mordlyrik – Gedichte mitten ins Herz“ freizugeben. \n 
URL:http://artsonore.de/event/nacht-der-kuenste
LOCATION:Werkhof-Lübeck\, Kanalstrasse 70\, Lübeck\, Schleswig-Holstein\, 23552\, Deutschland
ORGANIZER;CN="Art Sonore":MAILTO:Art_Sonore@Gmx.de
END:VEVENT
BEGIN:VEVENT
DTSTART;TZID=UTC:20190927T200000
DTEND;TZID=UTC:20190927T220000
DTSTAMP:20260421T080710
CREATED:20190815T181254Z
LAST-MODIFIED:20190815T181502Z
UID:211-1569614400-1569621600@artsonore.de
SUMMARY:Mordlyrik - Gedichte mitten ins Herz
DESCRIPTION:Pressetext Per Ole Albrecht \nfür die Lesung\nMordlyrik – Gedichte mitten ins Herz \nVon Per Ole Albrecht\nVorgetragen vom Autor \nMusikalisch begleitet von Eric Nobles \nFr 27.9.2019 20Uhr staven35\nStavenstr. 35 \nIn die Abgründe der Seele schaut der morbide Dichter… \nNach Jahren des stillen Schaffens entschließt sich Per Ole Albrecht aus den Schatten herauszutreten und Blick und Gehör auf teilweise witzig-morbide\, teilweise melancholisch-todrünstige Werke mit dem Titel „Mordlyrik – Gedichte mitten ins Herz“ freizugeben. \nBegleitet und unterstützt wird der Dichter und aktive Sänger und Gitarrist mehrerer bekannter Projekte (BLACK MOON DOWN\, LICK INC. & SOLOMENSCH) von Eric Nobles\, Meister der düsteren Klänge (Art Sonore) und bekannt vom KlangKunst Ambient-Festival sowie der Düsterlesung. \nKontakt: Facebook:\nPer Ole Albrecht 0177 2588003 https://www.facebook.com/per.vers.ole/ \nFacebook:\nhttps://www.facebook.com/eric nobles \n 
URL:http://artsonore.de/event/mordlyrik-gedichte-mitten-ins-herz
LOCATION:Kunstwerkstaat Staven35\, Stacenstraße 35\, Lübeck\, Schleswig-Holstein\, 23552\, Deutschland
ORGANIZER;CN="Art Sonore":MAILTO:Art_Sonore@Gmx.de
END:VEVENT
BEGIN:VEVENT
DTSTART;TZID=UTC:20190914T200000
DTEND;TZID=UTC:20190914T230000
DTSTAMP:20260421T080710
CREATED:20190815T183617Z
LAST-MODIFIED:20190815T183617Z
UID:217-1568491200-1568502000@artsonore.de
SUMMARY:Art Sonore - Sound Art & Ambient Musik Konzert / Venissage
DESCRIPTION:Art Sonore – Sound Art & Ambient Musik Konzert / Vernissage\n  \nUnter dem Motto Sound Art & Ambient Musik stellen die beiden in Lübeck ansässigen Künstler Eric Nobles und Skull ihre Musik vor. Als Atmosphärische Untermalung des Abends\, findet passend dazu eine Vernissage der Künstlerin Werk.Lichtgrau statt. \n  \nEric Nobles\, der unter anderem durch seine Alben Unruhe 2 und Dark X bekannt geworden ist\, produziert Musik in den Genre Dark Ambiente und Drone Ambiente.Er vereint auf eine besondere Art düstere Atmosphären mit psychoaktiven Klangelementen. \nSkull ist ein Dark\,- und Spiritual- Ambiente Künstler\, der sich auf dunkle sphärische Musik konzentriert. Er stellt mit seinen Kompositionen Geschichten und Emotionen musikalisch dar\,um seinen Zuhörern eine andere Perspektive zu geben. \n  \nSamstag 14. September Marlesgrube 3-7\, 23552 Lübeck \nEinlass: 20Uhr  \nBeginn:20:30Uhr  \nEintritt: 10€
URL:http://artsonore.de/event/art-sonore-sound-art-ambient-musik-konzert-venissage
LOCATION:Café Babel\, Marlesgrube 3-7\, Lübeck\, Schleswig Holstein\, 23552\, Deutschland
ORGANIZER;CN="Art Sonore":MAILTO:Art_Sonore@Gmx.de
END:VEVENT
BEGIN:VEVENT
DTSTART;TZID=UTC:20190504T200000
DTEND;TZID=UTC:20190504T230000
DTSTAMP:20260421T080710
CREATED:20190410T123309Z
LAST-MODIFIED:20190410T123309Z
UID:115-1557000000-1557010800@artsonore.de
SUMMARY:Premiere - Art Sonore\, Sound Art & Ambient Musik
DESCRIPTION:Im Rahmen der „Tage der offenen Ateliers 2019“ geben die in Lübeck ansässigen Musiker und Klangkünstler von Art Sonore ihr Premiere Konzert in der Künstlerwerkstat Staven35. \nUnter dem Motto „Sound Art & Ambient Musik“ stellen die beiden in Lübeck ansässigen Künstler Eric Nobles und Skull ihre neuen Alben vor.\nDunkle Atmosphären treffen auf experimentelle Klänge. \n————————————————————————————- \nDer in Lübeck ansässige Künstler Eric Nobles\, der unter anderem durch seine Alben Unruhe 3 und Dark X bekannt geworden ist\, produziert Dark-\, und Drone Ambient Musik. Er vereint auf eine besondere Art Dunkle Atmosphären mit psychoaktive Klangelementen. \nSkull ist ein Dark\,- und Spiritual- Ambeint Künstler\, der sich auf Dunkle Atmosphärische Musik Konzentriert. Er versucht mit seinen Kompositionen Geschichten und Emotionen musikalisch darzustellen\, um anderen Menschen eine andere Perspektive zu geben. \nDatum: Samstag der 04.05.2019\nEinlass: 20:00Uhr\, Beginn: 20:30Uhr\nAbendkassen: 10€
URL:http://artsonore.de/event/premiere-art-sonore-sound-art-ambient-musik
LOCATION:Kunstwerkstaat Staven35\, Stacenstraße 35\, Lübeck\, Schleswig-Holstein\, 23552\, Deutschland
ORGANIZER;CN="Art Sonore":MAILTO:Art_Sonore@Gmx.de
END:VEVENT
END:VCALENDAR